BEGIN:VCALENDAR
VERSION:2.0
PRODID:-//pickingme.org//NONSGML kigkonsult.se iCalcreator 2.30.10//
CALSCALE:GREGORIAN
METHOD:PUBLISH
UID:635096e1-0126-419e-810f-76ce67e6236b
X-WR-CALDESC:You're cordially invited to Picking Me Foundation's\n
X-WR-RELCALID:fbff0e8ea4ea6584d19398f2d88dec8d
X-WR-TIMEZONE:America/Chicago
BEGIN:VTIMEZONE
TZID:America/Chicago
BEGIN:STANDARD
TZNAME:CST
DTSTART:20201101T020000
TZOFFSETFROM:-0500
TZOFFSETTO:-0600
RDATE:20211107T020000
RDATE:20221106T020000
END:STANDARD
BEGIN:DAYLIGHT
TZNAME:CDT
DTSTART:20210314T020000
TZOFFSETFROM:-0600
TZOFFSETTO:-0500
RDATE:20220313T020000
RDATE:20230312T020000
END:DAYLIGHT
END:VTIMEZONE
BEGIN:VEVENT
UID:79d54439-910a-4c6e-80aa-2dd4829adb4e
DTSTAMP:20260421T143718Z
DESCRIPTION:You're cordially invited to Picking Me Foundation's\n
DTSTART;TZID=America/Chicago:20211016T140000
DTEND;TZID=America/Chicago:20211016T153000
LOCATION:https://pickingme.org/birthday/
SUMMARY:#PickingMe's 5th Birthday Party
END:VEVENT
END:VCALENDAR
