BEGIN:VCALENDAR
VERSION:2.0
PRODID:-//pickingme.org//NONSGML kigkonsult.se iCalcreator 2.30.10//
CALSCALE:GREGORIAN
METHOD:PUBLISH
UID:81f1758d-a923-4759-b264-f877f6da449e
X-WR-CALDESC:This #GivingTuesday\, join us on Zoom for\nComedy for a Cause 
 A Skin Picking Stand-Up Screening\nand help us reach our goal of $2\,000 f
 or Dermatillomania awareness\, support\, resources and community worldwide
 !\n\nWHO: You!\nWHAT: Skin Picking Stand-Up Screening\nWHERE: Your compute
 r screen\nWHEN: NOV 30\, 7:30 PM cst\nWHY:It's #GivingTuesday\, the Day of
  Giving!\n\nEvery year on the Tuesday after Thanksgiving\, we celebrate #G
 ivingTuesday\, a global movement dedicated to giving\, collaborating and c
 elebrating generosity. #GivingTuesday is about inspiring philanthropy and 
 humanity in our communities and beyond\, emphasizing that every act of gen
 erosity counts and that we all have something we can give!\n\nIn honor of 
 this global day of giving\, we're hosting a special Zoom screening of Come
 dy for a Cause - An Original Skin Picking Disorder Stand-Up by #PickingMe 
 CEO Lauren McKeaney!\n\nWill you help us reach our fundraising goal of $2\
 ,000 for #GivingTuesday 2021 by 11/30/2021? And let's share some laughs al
 ong the way?\n\n☆ TICKETS ARE WHAT YOU CAN DONATE ☆\n\nIf you're unable to
  attend\, please still consider leaving a donation in honor of Dermatillom
 ania strugglers and #GivingTuesday\, any amount helps!\n\nClick the link b
 elow to learn more!
X-WR-RELCALID:c6c101b7d7cb1ce707fdd66eb234a36e
X-WR-TIMEZONE:America/Chicago
BEGIN:VTIMEZONE
TZID:America/Chicago
BEGIN:STANDARD
TZNAME:CST
DTSTART:20211107T020000
TZOFFSETFROM:-0500
TZOFFSETTO:-0600
RDATE:20221106T020000
END:STANDARD
BEGIN:DAYLIGHT
TZNAME:CDT
DTSTART:20210314T020000
TZOFFSETFROM:-0600
TZOFFSETTO:-0500
RDATE:20220313T020000
RDATE:20230312T020000
END:DAYLIGHT
END:VTIMEZONE
BEGIN:VEVENT
UID:ba583b4c-01cf-4a69-af7e-4ff80b00f583
DTSTAMP:20260420T175738Z
DESCRIPTION:This #GivingTuesday\, join us on Zoom for\nComedy for a Cause A
  Skin Picking Stand-Up Screening\nand help us reach our goal of $2\,000 fo
 r Dermatillomania awareness\, support\, resources and community worldwide!
 \n\nWHO: You!\nWHAT: Skin Picking Stand-Up Screening\nWHERE: Your computer
  screen\nWHEN: NOV 30\, 7:30 PM cst\nWHY:It's #GivingTuesday\, the Day of 
 Giving!\n\nEvery year on the Tuesday after Thanksgiving\, we celebrate #Gi
 vingTuesday\, a global movement dedicated to giving\, collaborating and ce
 lebrating generosity. #GivingTuesday is about inspiring philanthropy and h
 umanity in our communities and beyond\, emphasizing that every act of gene
 rosity counts and that we all have something we can give!\n\nIn honor of t
 his global day of giving\, we're hosting a special Zoom screening of Comed
 y for a Cause - An Original Skin Picking Disorder Stand-Up by #PickingMe C
 EO Lauren McKeaney!\n\nWill you help us reach our fundraising goal of $2\,
 000 for #GivingTuesday 2021 by 11/30/2021? And let's share some laughs alo
 ng the way?\n\n☆ TICKETS ARE WHAT YOU CAN DONATE ☆\n\nIf you're unable to 
 attend\, please still consider leaving a donation in honor of Dermatilloma
 nia strugglers and #GivingTuesday\, any amount helps!\n\nClick the link be
 low to learn more!
DTSTART;TZID=America/Chicago:20211130T193000
DTEND;TZID=America/Chicago:20211130T210000
LOCATION:https://pickingme.org/givingtuesday/
SUMMARY:#GivingTuesday: Comedy for a Cause
END:VEVENT
END:VCALENDAR
