BEGIN:VCALENDAR
VERSION:2.0
PRODID:-//pickingme.org//NONSGML kigkonsult.se iCalcreator 2.30.10//
CALSCALE:GREGORIAN
METHOD:PUBLISH
UID:a3088889-26cf-4b5d-90e8-91ff3f61ab5d
X-WR-CALDESC:Mindset + Methods to Overcome BFRBs - An Online Course\n\nWalk
  away with a refreshed mindset\, steps to create an actionable plan for ma
 naging your BFRB and feeling less shame & more confident with this online 
 course\, led by Mental Health advocates who have personal experience with 
 BFRBs!\n\nThis is the second of THREE optional Q&A's for registrars of our
  online BFRB course. Tap the link below to learn more!\n\n** Disclaimer: T
 his is not a replacement for medical advice and we are not medical profess
 ionals. We highly encourage seeing a therapist or clinician for treatment.
  Through this course we simply aim to provide an extra source of support f
 or people with Body Focused Repetitive Behaviors. **
X-WR-RELCALID:4ff25a044254f39f31ede7c619eb4c95
X-WR-TIMEZONE:America/Chicago
BEGIN:VTIMEZONE
TZID:America/Chicago
BEGIN:STANDARD
TZNAME:CST
DTSTART:20211107T020000
TZOFFSETFROM:-0500
TZOFFSETTO:-0600
RDATE:20221106T020000
END:STANDARD
BEGIN:DAYLIGHT
TZNAME:CDT
DTSTART:20210314T020000
TZOFFSETFROM:-0600
TZOFFSETTO:-0500
RDATE:20220313T020000
RDATE:20230312T020000
END:DAYLIGHT
END:VTIMEZONE
BEGIN:VEVENT
UID:6cf12dd1-2f7b-41fd-870c-d4db1dfa95db
DTSTAMP:20260420T174218Z
DESCRIPTION:Mindset + Methods to Overcome BFRBs - An Online Course\n\nWalk 
 away with a refreshed mindset\, steps to create an actionable plan for man
 aging your BFRB and feeling less shame & more confident with this online c
 ourse\, led by Mental Health advocates who have personal experience with B
 FRBs!\n\nThis is the second of THREE optional Q&A's for registrars of our 
 online BFRB course. Tap the link below to learn more!\n\n** Disclaimer: Th
 is is not a replacement for medical advice and we are not medical professi
 onals. We highly encourage seeing a therapist or clinician for treatment. 
 Through this course we simply aim to provide an extra source of support fo
 r people with Body Focused Repetitive Behaviors. **
DTSTART;TZID=America/Chicago:20220125T200000
DTEND;TZID=America/Chicago:20220125T210000
LOCATION:Zoom!
SUMMARY:Mindset + Methods Q & A #2
END:VEVENT
END:VCALENDAR
