BEGIN:VCALENDAR
VERSION:2.0
PRODID:-//pickingme.org//NONSGML kigkonsult.se iCalcreator 2.30.10//
CALSCALE:GREGORIAN
METHOD:PUBLISH
UID:ddb5bf6e-2409-4f1f-9b31-6dd28df64e12
X-WR-CALDESC:Join us the Saturday before Valentine's Day for a special HeAR
 TS & Crafts hangout. Connect with the community as we make our very own #s
 elflovenotes to include in our features on Vday! Tap the link above to lea
 rn more and grab your tix.
X-WR-RELCALID:2f5d22fac4895482128439d03d58f3b9
X-WR-TIMEZONE:America/Chicago
BEGIN:VTIMEZONE
TZID:America/Chicago
BEGIN:STANDARD
TZNAME:CST
DTSTART:20211107T020000
TZOFFSETFROM:-0500
TZOFFSETTO:-0600
RDATE:20221106T020000
END:STANDARD
BEGIN:DAYLIGHT
TZNAME:CDT
DTSTART:20210314T020000
TZOFFSETFROM:-0600
TZOFFSETTO:-0500
RDATE:20220313T020000
RDATE:20230312T020000
END:DAYLIGHT
END:VTIMEZONE
BEGIN:VEVENT
UID:516dfd09-dbc8-49b1-9d38-2f0ebeb0865a
DTSTAMP:20260420T233540Z
DESCRIPTION:Join us the Saturday before Valentine's Day for a special HeART
 S & Crafts hangout. Connect with the community as we make our very own #se
 lflovenotes to include in our features on Vday! Tap the link above to lear
 n more and grab your tix.
DTSTART;TZID=America/Chicago:20220212T140000
DTEND;TZID=America/Chicago:20220212T153000
LOCATION:https://pickingme.org/vdayparty/
SUMMARY:Hearts & Crafts Zoom Hangout!
END:VEVENT
END:VCALENDAR
