BEGIN:VCALENDAR
VERSION:2.0
PRODID:-//pickingme.org//NONSGML kigkonsult.se iCalcreator 2.30.10//
CALSCALE:GREGORIAN
METHOD:PUBLISH
UID:337d4c26-c3fd-4285-8cb7-8846052c0846
X-WR-CALDESC:This World Poetry Day\, come hear amazing Skin Picking Disorde
 r poetry from our community and connect with fellow strugglers through sel
 f expression!
X-WR-RELCALID:aaea64392726c72aa6ece97fd3aad5a6
X-WR-TIMEZONE:America/Chicago
BEGIN:VTIMEZONE
TZID:America/Chicago
BEGIN:STANDARD
TZNAME:CST
DTSTART:20211107T020000
TZOFFSETFROM:-0500
TZOFFSETTO:-0600
RDATE:20221106T020000
END:STANDARD
BEGIN:DAYLIGHT
TZNAME:CDT
DTSTART:20220313T020000
TZOFFSETFROM:-0600
TZOFFSETTO:-0500
RDATE:20230312T020000
END:DAYLIGHT
END:VTIMEZONE
BEGIN:VEVENT
UID:606af552-363b-4397-8fe4-143c848cc2a1
DTSTAMP:20260420T200128Z
DESCRIPTION:This World Poetry Day\, come hear amazing Skin Picking Disorder
  poetry from our community and connect with fellow strugglers through self
  expression!
DTSTART;TZID=America/Chicago:20220321T190000
DTEND;TZID=America/Chicago:20220321T203000
LOCATION:https://pickingme.org/poetryparty/
SUMMARY:Skin Picking Poetry Party!
END:VEVENT
END:VCALENDAR
