BEGIN:VCALENDAR
VERSION:2.0
PRODID:-//pickingme.org//NONSGML kigkonsult.se iCalcreator 2.30.10//
CALSCALE:GREGORIAN
METHOD:PUBLISH
UID:85e4d228-8735-46d9-aebd-719724e07bc0
X-WR-CALDESC:Your Story: Self Portrait Workshop Empowering Skin Pickers\n✨
 \nLed by Authentic Essence Photographer & founder of @myrromedia Savannah 
 Power\, we're hosting a two-part #SkinPicking self-portrait workshop to he
 lp teach photography\, self-worth\, storytelling\, & inspire hope and fort
 ify the #Dermatillomania community.\n✨\nDATES:\nSelf-Portrait Tutorial\nWe
 d\, April 27 / 6:30 CST on Zoom\n~\nVirtual Photo Sharing Ceremony\nMon\, 
 May 2 / 6:30 CST on Zoom\n✨\nWe are so thrilled to offer our community the
  opportunity to capture the essence of their skin-picking in an authentic\
 , safe and artistic way.\nAs your facilitators\, we’ll empower you with so
 me photography basics to help you create a self-portrait that reflects you
 r truth – all with nothing more than a smart phone! You’ll receive a LIVE 
 self-portrait tutorial\, simple self-portraiture PDF\, a daily Self-compas
 sion for Skin-Pickers Meditation and access to a private virtual photo sha
 ring ceremony.\nThis project encourages you to honor your relationship to 
 your picking wherever you are at with it. We encourage participants to cre
 ate photos around any aspect of their picking they feel comfortable expres
 sing. This is an opportunity to be deeply seen and celebrated by your fell
 ow skin-pickers\, but more importantly to be seen and celebrated by yourse
 lf.\nJoin us for this 7 day journey into a deeper understanding and expres
 sion of skin picking.\n✨\nRegister today at pickingme.org/portraits (or ta
 p link in bio) to download your daily Self-compassion for Skin-Pickers med
 itation!
X-WR-RELCALID:5741fbb7bfc3ec38efddde7e276cb814
X-WR-TIMEZONE:America/Chicago
BEGIN:VTIMEZONE
TZID:America/Chicago
BEGIN:STANDARD
TZNAME:CST
DTSTART:20211107T020000
TZOFFSETFROM:-0500
TZOFFSETTO:-0600
RDATE:20221106T020000
END:STANDARD
BEGIN:DAYLIGHT
TZNAME:CDT
DTSTART:20220313T020000
TZOFFSETFROM:-0600
TZOFFSETTO:-0500
RDATE:20230312T020000
END:DAYLIGHT
END:VTIMEZONE
BEGIN:VEVENT
UID:8c616ab0-f40e-45fe-bae3-7b3e39fe3b00
DTSTAMP:20260420T232412Z
DESCRIPTION:Your Story: Self Portrait Workshop Empowering Skin Pickers\n✨\n
 Led by Authentic Essence Photographer & founder of @myrromedia Savannah Po
 wer\, we're hosting a two-part #SkinPicking self-portrait workshop to help
  teach photography\, self-worth\, storytelling\, & inspire hope and fortif
 y the #Dermatillomania community.\n✨\nDATES:\nSelf-Portrait Tutorial\nWed\
 , April 27 / 6:30 CST on Zoom\n~\nVirtual Photo Sharing Ceremony\nMon\, Ma
 y 2 / 6:30 CST on Zoom\n✨\nWe are so thrilled to offer our community the o
 pportunity to capture the essence of their skin-picking in an authentic\, 
 safe and artistic way.\nAs your facilitators\, we’ll empower you with some
  photography basics to help you create a self-portrait that reflects your 
 truth – all with nothing more than a smart phone! You’ll receive a LIVE se
 lf-portrait tutorial\, simple self-portraiture PDF\, a daily Self-compassi
 on for Skin-Pickers Meditation and access to a private virtual photo shari
 ng ceremony.\nThis project encourages you to honor your relationship to yo
 ur picking wherever you are at with it. We encourage participants to creat
 e photos around any aspect of their picking they feel comfortable expressi
 ng. This is an opportunity to be deeply seen and celebrated by your fellow
  skin-pickers\, but more importantly to be seen and celebrated by yourself
 .\nJoin us for this 7 day journey into a deeper understanding and expressi
 on of skin picking.\n✨\nRegister today at pickingme.org/portraits (or tap 
 link in bio) to download your daily Self-compassion for Skin-Pickers medit
 ation!
DTSTART;TZID=America/Chicago:20220502T183000
DTEND;TZID=America/Chicago:20220502T200000
LOCATION:https://pickingme.org/portraits
SUMMARY:Skin Picking Self Portrait Workshop: Photo Sharing Ceremony
END:VEVENT
END:VCALENDAR
