BEGIN:VCALENDAR
VERSION:2.0
PRODID:-//pickingme.org//NONSGML kigkonsult.se iCalcreator 2.30.10//
CALSCALE:GREGORIAN
METHOD:PUBLISH
UID:d62e8e16-6da5-4b53-8720-dc633496cb4b
X-WR-CALDESC:Join the pioneers of the Skin Picking Disorder community\, Lau
 ren McKeaney (@pickingmefdn) + Angela Hartlin (@skinpickingsupport)\, for 
 an exciting convo on Zoom as they share their Skin Picking experiences and
  answer all your questions! You don't wanna miss this opportunity to hear 
 from two amazing advocates who have helped provide invaluable #Dermatillom
 ania resources and support to strugglers\, and in turn\, created a growing
  community for Skin Pickers across the globe.\n
X-WR-RELCALID:bd7f84545742ef74e1a4cb41fc1fb0d3
X-WR-TIMEZONE:America/Chicago
BEGIN:VTIMEZONE
TZID:America/Chicago
BEGIN:STANDARD
TZNAME:CST
DTSTART:20211107T020000
TZOFFSETFROM:-0500
TZOFFSETTO:-0600
RDATE:20221106T020000
RDATE:20231105T020000
END:STANDARD
BEGIN:DAYLIGHT
TZNAME:CDT
DTSTART:20220313T020000
TZOFFSETFROM:-0600
TZOFFSETTO:-0500
RDATE:20230312T020000
END:DAYLIGHT
END:VTIMEZONE
BEGIN:VEVENT
UID:17a1fb72-8b00-4d0e-be4a-afb9f4e84491
DTSTAMP:20260423T015623Z
DESCRIPTION:Join the pioneers of the Skin Picking Disorder community\, Laur
 en McKeaney (@pickingmefdn) + Angela Hartlin (@skinpickingsupport)\, for a
 n exciting convo on Zoom as they share their Skin Picking experiences and 
 answer all your questions! You don't wanna miss this opportunity to hear f
 rom two amazing advocates who have helped provide invaluable #Dermatilloma
 nia resources and support to strugglers\, and in turn\, created a growing 
 community for Skin Pickers across the globe.\n
DTSTART;TZID=America/Chicago:20220615T150000
DTEND;TZID=America/Chicago:20220615T163000
LOCATION:https://pickingme.org/candidconvo/
SUMMARY:Candid Convo on Compulsive Skin Picking
END:VEVENT
END:VCALENDAR
