BEGIN:VCALENDAR
VERSION:2.0
PRODID:-//pickingme.org//NONSGML kigkonsult.se iCalcreator 2.30.10//
CALSCALE:GREGORIAN
METHOD:PUBLISH
UID:7dc6cab4-7c41-4c4b-8518-1627703d109e
X-WR-CALDESC:
X-WR-RELCALID:dfbe1e4029d36acafb764554b2060fa3
X-WR-TIMEZONE:America/Chicago
BEGIN:VTIMEZONE
TZID:America/Chicago
BEGIN:STANDARD
TZNAME:CST
DTSTART:20211107T020000
TZOFFSETFROM:-0500
TZOFFSETTO:-0600
RDATE:20221106T020000
RDATE:20231105T020000
END:STANDARD
BEGIN:DAYLIGHT
TZNAME:CDT
DTSTART:20220313T020000
TZOFFSETFROM:-0600
TZOFFSETTO:-0500
RDATE:20230312T020000
END:DAYLIGHT
END:VTIMEZONE
BEGIN:VEVENT
UID:afb9a55b-c477-48f3-a9ab-95736e9bda56
DTSTAMP:20260423T001323Z
DESCRIPTION:
DTSTART;TZID=America/Chicago:20220730T113000
DTEND;TZID=America/Chicago:20220730T133000
LOCATION:
SUMMARY:International Day of Friendship Hang-Out
END:VEVENT
END:VCALENDAR
