BEGIN:VCALENDAR
VERSION:2.0
PRODID:-//pickingme.org//NONSGML kigkonsult.se iCalcreator 2.30.10//
CALSCALE:GREGORIAN
METHOD:PUBLISH
UID:4404fa97-918b-4850-9a39-36f65431d2b7
X-WR-CALDESC:Join us in spreading advocacy this Body-Focused Repetitive Beh
 avior week! Tap the link below to learn how to get involved.
X-WR-RELCALID:285542630072c88a2f6ddfbada4b48e4
X-WR-TIMEZONE:America/Chicago
BEGIN:VTIMEZONE
TZID:America/Chicago
BEGIN:STANDARD
TZNAME:CST
DTSTART:20211107T020000
TZOFFSETFROM:-0500
TZOFFSETTO:-0600
RDATE:20221106T020000
RDATE:20231105T020000
END:STANDARD
BEGIN:DAYLIGHT
TZNAME:CDT
DTSTART:20220313T020000
TZOFFSETFROM:-0600
TZOFFSETTO:-0500
RDATE:20230312T020000
RDATE:20240310T020000
END:DAYLIGHT
END:VTIMEZONE
BEGIN:VEVENT
UID:7c2bc030-eb7c-4fa9-bbc7-13338e5aad9a
DTSTAMP:20260422T182140Z
DESCRIPTION:Join us in spreading advocacy this Body-Focused Repetitive Beha
 vior week! Tap the link below to learn how to get involved.
DTSTART;TZID=America/Chicago:20221001T000000
DTEND;TZID=America/Chicago:20221007T235900
LOCATION:
SUMMARY:#BFRBweek 2022!
END:VEVENT
END:VCALENDAR
