BEGIN:VCALENDAR
VERSION:2.0
PRODID:-//pickingme.org//NONSGML kigkonsult.se iCalcreator 2.30.10//
CALSCALE:GREGORIAN
METHOD:PUBLISH
UID:9c8add6e-54c7-49d0-8c2f-2b316f32629e
X-WR-CALDESC:Join us for a special #BFRBweek kids hang-out\, for children 1
 2 & under! Tap the link below to register!
X-WR-RELCALID:9f9256da82af2f1258c084d80bc5178e
X-WR-TIMEZONE:America/Chicago
BEGIN:VTIMEZONE
TZID:America/Chicago
BEGIN:STANDARD
TZNAME:CST
DTSTART:20211107T020000
TZOFFSETFROM:-0500
TZOFFSETTO:-0600
RDATE:20221106T020000
RDATE:20231105T020000
END:STANDARD
BEGIN:DAYLIGHT
TZNAME:CDT
DTSTART:20220313T020000
TZOFFSETFROM:-0600
TZOFFSETTO:-0500
RDATE:20230312T020000
RDATE:20240310T020000
END:DAYLIGHT
END:VTIMEZONE
BEGIN:VEVENT
UID:3ee5b7fa-9dfc-4f79-9cf2-2dca96db4be4
DTSTAMP:20260424T104152Z
DESCRIPTION:Join us for a special #BFRBweek kids hang-out\, for children 12
  & under! Tap the link below to register!
DTSTART;TZID=America/Chicago:20221003T183000
DTEND;TZID=America/Chicago:20221003T193000
LOCATION:
SUMMARY:#BFRBweek Kids Hang-Out
END:VEVENT
END:VCALENDAR
