BEGIN:VCALENDAR
VERSION:2.0
PRODID:-//pickingme.org//NONSGML kigkonsult.se iCalcreator 2.30.10//
CALSCALE:GREGORIAN
METHOD:PUBLISH
UID:82f488c2-d055-4e56-b606-3ba7ff342146
X-WR-CALDESC:Join us for a special BFRB-related show & tell! To learn more\
 , register or submit a proposal tap the link below!
X-WR-RELCALID:5179596fbfe7fd49f1efa7b8e610df9c
X-WR-TIMEZONE:America/Chicago
BEGIN:VTIMEZONE
TZID:America/Chicago
BEGIN:STANDARD
TZNAME:CST
DTSTART:20211107T020000
TZOFFSETFROM:-0500
TZOFFSETTO:-0600
RDATE:20221106T020000
RDATE:20231105T020000
END:STANDARD
BEGIN:DAYLIGHT
TZNAME:CDT
DTSTART:20220313T020000
TZOFFSETFROM:-0600
TZOFFSETTO:-0500
RDATE:20230312T020000
RDATE:20240310T020000
END:DAYLIGHT
END:VTIMEZONE
BEGIN:VEVENT
UID:61cd20ca-7dad-40a0-9d5f-e24c49d02e5b
DTSTAMP:20260422T181748Z
DESCRIPTION:Join us for a special BFRB-related show & tell! To learn more\,
  register or submit a proposal tap the link below!
DTSTART;TZID=America/Chicago:20221007T190000
DTEND;TZID=America/Chicago:20221007T203000
LOCATION:
SUMMARY:#BFRBweek Variety Show &Tell!
END:VEVENT
END:VCALENDAR
