BEGIN:VCALENDAR
VERSION:2.0
PRODID:-//pickingme.org//NONSGML kigkonsult.se iCalcreator 2.30.10//
CALSCALE:GREGORIAN
METHOD:PUBLISH
UID:8eea91cd-cb06-4536-9fea-227e95067b7a
X-WR-CALDESC:Picking Me fam! In honor of National Let's Laugh Day\, come wa
 tch a screening of our CEO & Founder Lauren McKeaney's 2021 dermatillomani
 a Zoom stand up\, and share a skin picking joke or 2 of your own! Funny ex
 periences\, silly circumstances\, odd orders placed\, late excuses used\, 
 anything related to skin picking goes. And we deserve to laugh loves. This
  mental illness can steal so much joy and I invite you to come and share o
 r watch as we collectively challenge how much dermatillomania controls. So
  register now to save your seat and you’ll let us know there if you’d like
  to be added to the lineup for Let’s Laugh.\n\nThe event fee is “Donate Wh
 at You Can” and any and all contributions are greatly appreciated. Your re
 gistration ticket comes with a snazzy virtual goodie bag featuring a mockt
 ail recipe\, puzzles\, pre-party music playlist\, and coupon code to our s
 hop.\n\nAnd invite your friends or anyone you’d like to know more about sk
 in picking! Can’t wait to see you there loves :)
X-WR-RELCALID:afdc08709d43b5255991633e99d5da82
X-WR-TIMEZONE:America/Chicago
BEGIN:VTIMEZONE
TZID:America/Chicago
BEGIN:STANDARD
TZNAME:CST
DTSTART:20221106T020000
TZOFFSETFROM:-0500
TZOFFSETTO:-0600
RDATE:20231105T020000
END:STANDARD
BEGIN:DAYLIGHT
TZNAME:CDT
DTSTART:20230312T020000
TZOFFSETFROM:-0600
TZOFFSETTO:-0500
RDATE:20240310T020000
END:DAYLIGHT
END:VTIMEZONE
BEGIN:VEVENT
UID:ce2b64d6-71df-4952-bb80-e8d16916e7ea
DTSTAMP:20260422T092810Z
DESCRIPTION:Picking Me fam! In honor of National Let's Laugh Day\, come wat
 ch a screening of our CEO & Founder Lauren McKeaney's 2021 dermatillomania
  Zoom stand up\, and share a skin picking joke or 2 of your own! Funny exp
 eriences\, silly circumstances\, odd orders placed\, late excuses used\, a
 nything related to skin picking goes. And we deserve to laugh loves. This 
 mental illness can steal so much joy and I invite you to come and share or
  watch as we collectively challenge how much dermatillomania controls. So 
 register now to save your seat and you’ll let us know there if you’d like 
 to be added to the lineup for Let’s Laugh.\n\nThe event fee is “Donate Wha
 t You Can” and any and all contributions are greatly appreciated. Your reg
 istration ticket comes with a snazzy virtual goodie bag featuring a mockta
 il recipe\, puzzles\, pre-party music playlist\, and coupon code to our sh
 op.\n\nAnd invite your friends or anyone you’d like to know more about ski
 n picking! Can’t wait to see you there loves :)
DTSTART;TZID=America/Chicago:20230319T170000
DTEND;TZID=America/Chicago:20230319T190000
LOCATION:https://pickingme.org/letslaugh/
SUMMARY:Let's Laugh Zoom Event
END:VEVENT
END:VCALENDAR
