BEGIN:VCALENDAR
VERSION:2.0
PRODID:-//pickingme.org//NONSGML kigkonsult.se iCalcreator 2.30.10//
CALSCALE:GREGORIAN
METHOD:PUBLISH
UID:75d954d5-ad52-4654-883f-1f74cde4dd0f
X-WR-CALDESC:
X-WR-RELCALID:dea007cf985a454a264a19800a7013dc
X-WR-TIMEZONE:America/Chicago
BEGIN:VTIMEZONE
TZID:America/Chicago
BEGIN:STANDARD
TZNAME:CST
DTSTART:20221106T020000
TZOFFSETFROM:-0500
TZOFFSETTO:-0600
RDATE:20231105T020000
END:STANDARD
BEGIN:DAYLIGHT
TZNAME:CDT
DTSTART:20230312T020000
TZOFFSETFROM:-0600
TZOFFSETTO:-0500
RDATE:20240310T020000
END:DAYLIGHT
END:VTIMEZONE
BEGIN:VEVENT
UID:1553f64c-32d3-4c2e-96f9-6e3528b58ec4
DTSTAMP:20260422T091613Z
DESCRIPTION:
DTSTART;TZID=America/Chicago:20230325T020000
DTEND;TZID=America/Chicago:20230325T033000
LOCATION:https://pickingme.org/lowfuellight/
SUMMARY:BFRB Short Film Screening Virtual Event
END:VEVENT
END:VCALENDAR
