BEGIN:VCALENDAR
VERSION:2.0
PRODID:-//pickingme.org//NONSGML kigkonsult.se iCalcreator 2.30.10//
CALSCALE:GREGORIAN
METHOD:PUBLISH
UID:16a796c7-6f43-4907-b7d4-99e69f98c0a1
X-WR-CALDESC:Join our Online Skin Picking Support every 1st and 3rd Tuesday
  of the month during the pandemic. Our group is for adults (18+) and is le
 d by #PickingMe CEO and Skin Picker Lauren McKeaney. Click the link below 
 to sign up!
X-WR-RELCALID:b425e59a8ebe2e6bc587781257f89af5
X-WR-TIMEZONE:America/Chicago
BEGIN:VTIMEZONE
TZID:America/Chicago
BEGIN:STANDARD
TZNAME:CST
DTSTART:20221106T020000
TZOFFSETFROM:-0500
TZOFFSETTO:-0600
RDATE:20231105T020000
RDATE:20241103T020000
END:STANDARD
BEGIN:DAYLIGHT
TZNAME:CDT
DTSTART:20230312T020000
TZOFFSETFROM:-0600
TZOFFSETTO:-0500
RDATE:20240310T020000
END:DAYLIGHT
END:VTIMEZONE
BEGIN:VEVENT
UID:4fe6cba8-eeae-4cec-9c29-e2337e2aa66a
DTSTAMP:20260421T235015Z
DESCRIPTION:Join our Online Skin Picking Support every 1st and 3rd Tuesday 
 of the month during the pandemic. Our group is for adults (18+) and is led
  by #PickingMe CEO and Skin Picker Lauren McKeaney. Click the link below t
 o sign up!
DTSTART;TZID=America/Chicago:20230801T180000
DTEND;TZID=America/Chicago:20230801T193000
LOCATION:Online
SUMMARY:Online Skin Picking Support Group
END:VEVENT
END:VCALENDAR
