BEGIN:VCALENDAR
VERSION:2.0
PRODID:-//pickingme.org//NONSGML kigkonsult.se iCalcreator 2.30.10//
CALSCALE:GREGORIAN
METHOD:PUBLISH
UID:9a795850-dfb4-4633-9fc2-bb07b3a1590f
X-WR-CALDESC:Join our Online Skin Picking Support every 1st and 3rd Tuesday
  of the month during the pandemic. Our group is for adults (18+) and is le
 d by #PickingMe CEO and Skin Picker Lauren McKeaney. Click the link below 
 to sign up!
X-WR-RELCALID:bb3fdf8df0a05ffcb665fa4a50e6ab25
X-WR-TIMEZONE:America/Chicago
BEGIN:VTIMEZONE
TZID:America/Chicago
BEGIN:STANDARD
TZNAME:CST
DTSTART:20221106T020000
TZOFFSETFROM:-0500
TZOFFSETTO:-0600
RDATE:20231105T020000
RDATE:20241103T020000
END:STANDARD
BEGIN:DAYLIGHT
TZNAME:CDT
DTSTART:20230312T020000
TZOFFSETFROM:-0600
TZOFFSETTO:-0500
RDATE:20240310T020000
RDATE:20250309T020000
END:DAYLIGHT
END:VTIMEZONE
BEGIN:VEVENT
UID:1e3aa7da-4c5f-4a7a-b284-81cbc8164c0c
DTSTAMP:20260421T202236Z
DESCRIPTION:Join our Online Skin Picking Support every 1st and 3rd Tuesday 
 of the month during the pandemic. Our group is for adults (18+) and is led
  by #PickingMe CEO and Skin Picker Lauren McKeaney. Click the link below t
 o sign up!
DTSTART;TZID=America/Chicago:20231017T180000
DTEND;TZID=America/Chicago:20231017T193000
LOCATION:Online
SUMMARY:Online Skin Picking Support Group
END:VEVENT
END:VCALENDAR
