BEGIN:VCALENDAR
VERSION:2.0
PRODID:-//pickingme.org//NONSGML kigkonsult.se iCalcreator 2.30.10//
CALSCALE:GREGORIAN
METHOD:PUBLISH
UID:2f4e4646-3fd6-4ace-a236-5ff108cd0559
X-WR-CALDESC:Atlanta fam - Come hang out with the Skin Picking and BFRB com
 munity on Oct 6th at 6:30 PM at Meehan's Public House Downtown!\n\nPick CE
 O Lauren McKeaney's brain with BFRB questions and advice\, swap strategies
  with fellow community members who understand and be together in-person at
  this low key #PickingMe meet-up.
X-WR-RELCALID:64b18ad6dcc374bb5f6f679d1913fda1
X-WR-TIMEZONE:America/Chicago
BEGIN:VTIMEZONE
TZID:America/Chicago
BEGIN:STANDARD
TZNAME:CST
DTSTART:20241103T020000
TZOFFSETFROM:-0500
TZOFFSETTO:-0600
RDATE:20251102T020000
RDATE:20261101T020000
END:STANDARD
BEGIN:DAYLIGHT
TZNAME:CDT
DTSTART:20250309T020000
TZOFFSETFROM:-0600
TZOFFSETTO:-0500
RDATE:20260308T020000
RDATE:20270314T020000
END:DAYLIGHT
END:VTIMEZONE
BEGIN:VEVENT
UID:f51c5736-1cec-4ccd-ae25-39127a768927
DTSTAMP:20260424T084934Z
DESCRIPTION:Atlanta fam - Come hang out with the Skin Picking and BFRB comm
 unity on Oct 6th at 6:30 PM at Meehan's Public House Downtown!\n\nPick CEO
  Lauren McKeaney's brain with BFRB questions and advice\, swap strategies 
 with fellow community members who understand and be together in-person at 
 this low key #PickingMe meet-up.
DTSTART;TZID=America/Chicago:20251006T183000
DTEND;TZID=America/Chicago:20251006T210000
LOCATION:200 Peachtree St\, Atlanta\, GA 30303 US
SUMMARY:Atlanta #PickingMe Pop-Up!
END:VEVENT
END:VCALENDAR
