BEGIN:VCALENDAR
VERSION:2.0
PRODID:-//pickingme.org//NONSGML kigkonsult.se iCalcreator 2.30.10//
CALSCALE:GREGORIAN
METHOD:PUBLISH
UID:7b3e45d3-b69b-499d-b794-6342dba3c094
X-WR-CALDESC:Join Picking Me Foundation's Lauren McKeaney and The Center fo
 r Mindfulness & CBT's Dr. Laura Chackes virtual book tour promoting their 
 new publication The BFRB Workbook for Teens & Young Adults alongside fello
 w #BFRB leaders.
X-WR-RELCALID:7070bb265b5db174300a1b6476873849
X-WR-TIMEZONE:America/Chicago
BEGIN:VTIMEZONE
TZID:America/Chicago
BEGIN:STANDARD
TZNAME:CST
DTSTART:20251102T020000
TZOFFSETFROM:-0500
TZOFFSETTO:-0600
RDATE:20261101T020000
END:STANDARD
BEGIN:DAYLIGHT
TZNAME:CDT
DTSTART:20250309T020000
TZOFFSETFROM:-0600
TZOFFSETTO:-0500
RDATE:20260308T020000
RDATE:20270314T020000
END:DAYLIGHT
END:VTIMEZONE
BEGIN:VEVENT
UID:3d8ab0b5-0653-4995-8767-1adc40b7c4ca
DTSTAMP:20260422T114057Z
DESCRIPTION:Join Picking Me Foundation's Lauren McKeaney and The Center for
  Mindfulness & CBT's Dr. Laura Chackes virtual book tour promoting their n
 ew publication The BFRB Workbook for Teens & Young Adults alongside fellow
  #BFRB leaders.
DTSTART;TZID=America/Chicago:20260220T140000
DTEND;TZID=America/Chicago:20260220T150000
LOCATION:https://pickingme.org/virtualbooktour/jacobbooktour.html
SUMMARY:Virtual Book Tour: Dr. Jacob Cross of Curious Minds
END:VEVENT
END:VCALENDAR
