BEGIN:VCALENDAR
VERSION:2.0
PRODID:-//pickingme.org//NONSGML kigkonsult.se iCalcreator 2.30.10//
CALSCALE:GREGORIAN
METHOD:PUBLISH
UID:76c440db-5437-4597-93e8-263af93b7e9d
X-WR-CALDESC:Join Picking Me Foundation's Lauren McKeaney and The Center fo
 r Mindfulness & CBT's Dr. Laura Chackes virtual book tour promoting their 
 new publication The BFRB Workbook for Teens & Young Adults alongside fello
 w #BFRB leaders.
X-WR-RELCALID:74850bb514ef4e76c56bb238e476885f
X-WR-TIMEZONE:America/Chicago
BEGIN:VTIMEZONE
TZID:America/Chicago
BEGIN:STANDARD
TZNAME:CST
DTSTART:20251102T020000
TZOFFSETFROM:-0500
TZOFFSETTO:-0600
RDATE:20261101T020000
END:STANDARD
BEGIN:DAYLIGHT
TZNAME:CDT
DTSTART:20250309T020000
TZOFFSETFROM:-0600
TZOFFSETTO:-0500
RDATE:20260308T020000
RDATE:20270314T020000
END:DAYLIGHT
END:VTIMEZONE
BEGIN:VEVENT
UID:c4371ed1-2f36-40c6-92e3-52073deb4a23
DTSTAMP:20260422T113110Z
DESCRIPTION:Join Picking Me Foundation's Lauren McKeaney and The Center for
  Mindfulness & CBT's Dr. Laura Chackes virtual book tour promoting their n
 ew publication The BFRB Workbook for Teens & Young Adults alongside fellow
  #BFRB leaders.
DTSTART;TZID=America/Chicago:20260224T130000
DTEND;TZID=America/Chicago:20260224T140000
LOCATION:https://pickingme.org/virtualbooktour/alisonbooktour.html
SUMMARY:Virtual Book Tour: Alison Menatti Ph.D of St. Louis Behavioral Medi
 cine Institute
END:VEVENT
END:VCALENDAR
