BEGIN:VCALENDAR
VERSION:2.0
PRODID:-//pickingme.org//NONSGML kigkonsult.se iCalcreator 2.30.10//
CALSCALE:GREGORIAN
METHOD:PUBLISH
UID:68c98cd1-a5b8-44bf-9664-2950a454379d
X-WR-CALDESC:Join Picking Me Foundation's Lauren McKeaney and The Center fo
 r Mindfulness & CBT's Dr. Laura Chackes virtual book tour promoting their 
 new publication The BFRB Workbook for Teens & Young Adults alongside fello
 w #BFRB leaders.
X-WR-RELCALID:86323f6d53778dc9b72fa1cd6704d1fc
X-WR-TIMEZONE:America/Chicago
BEGIN:VTIMEZONE
TZID:America/Chicago
BEGIN:STANDARD
TZNAME:CST
DTSTART:20251102T020000
TZOFFSETFROM:-0500
TZOFFSETTO:-0600
RDATE:20261101T020000
END:STANDARD
BEGIN:DAYLIGHT
TZNAME:CDT
DTSTART:20260308T020000
TZOFFSETFROM:-0600
TZOFFSETTO:-0500
RDATE:20270314T020000
END:DAYLIGHT
END:VTIMEZONE
BEGIN:VEVENT
UID:6c7a238e-e820-44f3-9d0b-7866a4d8b605
DTSTAMP:20260422T095852Z
DESCRIPTION:Join Picking Me Foundation's Lauren McKeaney and The Center for
  Mindfulness & CBT's Dr. Laura Chackes virtual book tour promoting their n
 ew publication The BFRB Workbook for Teens & Young Adults alongside fellow
  #BFRB leaders.
DTSTART;TZID=America/Chicago:20260312T140000
DTEND;TZID=America/Chicago:20260312T150000
LOCATION:https://pickingme.org/virtualbooktour/katiebooktour.html
SUMMARY:Virtual Book Tour: Katie K. May\, LPC of Creative Healing
END:VEVENT
END:VCALENDAR
