BEGIN:VCALENDAR
VERSION:2.0
PRODID:-//pickingme.org//NONSGML kigkonsult.se iCalcreator 2.30.10//
CALSCALE:GREGORIAN
METHOD:PUBLISH
UID:29abf643-7d0c-4b73-98f1-3b875adcddab
X-WR-CALDESC:Join Picking Me Foundation's Lauren McKeaney and The Center fo
 r Mindfulness & CBT's Dr. Laura Chackes virtual book tour promoting their 
 new publication The BFRB Workbook for Teens & Young Adults alongside fello
 w #BFRB leaders.
X-WR-RELCALID:9690b4b264cc9088869808e5088ef400
X-WR-TIMEZONE:America/Chicago
BEGIN:VTIMEZONE
TZID:America/Chicago
BEGIN:STANDARD
TZNAME:CST
DTSTART:20251102T020000
TZOFFSETFROM:-0500
TZOFFSETTO:-0600
RDATE:20261101T020000
END:STANDARD
BEGIN:DAYLIGHT
TZNAME:CDT
DTSTART:20260308T020000
TZOFFSETFROM:-0600
TZOFFSETTO:-0500
RDATE:20270314T020000
END:DAYLIGHT
END:VTIMEZONE
BEGIN:VEVENT
UID:d73d6a2d-0ced-4424-9317-4d4aabc2d0a4
DTSTAMP:20260422T082150Z
DESCRIPTION:Join Picking Me Foundation's Lauren McKeaney and The Center for
  Mindfulness & CBT's Dr. Laura Chackes virtual book tour promoting their n
 ew publication The BFRB Workbook for Teens & Young Adults alongside fellow
  #BFRB leaders.
DTSTART;TZID=America/Chicago:20260403T140000
DTEND;TZID=America/Chicago:20260403T150000
LOCATION:https://pickingme.org/virtualbooktour/christinebooktour.html
SUMMARY:Virtual Book Tour: Christina Pearson
END:VEVENT
END:VCALENDAR
