BEGIN:VCALENDAR
VERSION:2.0
PRODID:-//pickingme.org//NONSGML kigkonsult.se iCalcreator 2.30.10//
CALSCALE:GREGORIAN
METHOD:PUBLISH
UID:15e9904c-2ccb-4ed7-a9db-9824b8097280
X-WR-CALDESC:Join our Online Skin Picking Support every 1st and 3rd Tuesday
  of the month. Our group is for adults (18+) and is led by #PickingMe CEO 
 and Skin Picker Lauren McKeaney. Click the link below to sign up!
X-WR-RELCALID:5954b235b53f01b02b0da00b6d84c202
X-WR-TIMEZONE:America/Chicago
BEGIN:VTIMEZONE
TZID:America/Chicago
BEGIN:STANDARD
TZNAME:CST
DTSTART:20261101T020000
TZOFFSETFROM:-0500
TZOFFSETTO:-0600
RDATE:20271107T020000
END:STANDARD
BEGIN:DAYLIGHT
TZNAME:CDT
DTSTART:20260308T020000
TZOFFSETFROM:-0600
TZOFFSETTO:-0500
RDATE:20270314T020000
RDATE:20280312T020000
END:DAYLIGHT
END:VTIMEZONE
BEGIN:VEVENT
UID:3ff2d0f2-0c3d-4b84-84d1-ba97a662e956
DTSTAMP:20260425T211716Z
DESCRIPTION:Join our Online Skin Picking Support every 1st and 3rd Tuesday 
 of the month. Our group is for adults (18+) and is led by #PickingMe CEO a
 nd Skin Picker Lauren McKeaney. Click the link below to sign up!
DTSTART;TZID=America/Chicago:20270302T180000
DTEND;TZID=America/Chicago:20270302T193000
LOCATION:Online
SUMMARY:Online Skin Picking Support Group
END:VEVENT
END:VCALENDAR
