BEGIN:VCALENDAR
VERSION:2.0
PRODID:-//pickingme.org//NONSGML kigkonsult.se iCalcreator 2.30.10//
CALSCALE:GREGORIAN
METHOD:PUBLISH
UID:cd9f41b3-2fdd-4369-b8ed-ae8df91256f2
X-WR-CALDESC:Join our Online Skin Picking Support every 1st and 3rd Tuesday
  of the month. Our group is for adults (18+) and is led by #PickingMe CEO 
 and Skin Picker Lauren McKeaney. Click the link below to sign up!
X-WR-RELCALID:5c7e7e83a3b81a5f652835b599aa898e
X-WR-TIMEZONE:America/Chicago
BEGIN:VTIMEZONE
TZID:America/Chicago
BEGIN:STANDARD
TZNAME:CST
DTSTART:20261101T020000
TZOFFSETFROM:-0500
TZOFFSETTO:-0600
RDATE:20271107T020000
END:STANDARD
BEGIN:DAYLIGHT
TZNAME:CDT
DTSTART:20270314T020000
TZOFFSETFROM:-0600
TZOFFSETTO:-0500
RDATE:20280312T020000
END:DAYLIGHT
END:VTIMEZONE
BEGIN:VEVENT
UID:40c6073b-6a06-4cfd-9956-6a5e336644a3
DTSTAMP:20260425T232213Z
DESCRIPTION:Join our Online Skin Picking Support every 1st and 3rd Tuesday 
 of the month. Our group is for adults (18+) and is led by #PickingMe CEO a
 nd Skin Picker Lauren McKeaney. Click the link below to sign up!
DTSTART;TZID=America/Chicago:20270406T180000
DTEND;TZID=America/Chicago:20270406T193000
LOCATION:Online
SUMMARY:Online Skin Picking Support Group
END:VEVENT
END:VCALENDAR
