BEGIN:VCALENDAR
VERSION:2.0
PRODID:-//pickingme.org//NONSGML kigkonsult.se iCalcreator 2.30.10//
CALSCALE:GREGORIAN
METHOD:PUBLISH
UID:f275ca0d-5b63-4f94-9bca-4c2a3f99cfb6
X-WR-CALDESC:Join our Online Skin Picking Support every 1st and 3rd Tuesday
  of the month. Our group is for adults (18+) and is led by #PickingMe CEO 
 and Skin Picker Lauren McKeaney. Click the link below to sign up!
X-WR-RELCALID:e8dc03a250c2a7a4b90c0204d5547bb9
X-WR-TIMEZONE:America/Chicago
BEGIN:VTIMEZONE
TZID:America/Chicago
BEGIN:STANDARD
TZNAME:CST
DTSTART:20271107T020000
TZOFFSETFROM:-0500
TZOFFSETTO:-0600
RDATE:20281105T020000
END:STANDARD
BEGIN:DAYLIGHT
TZNAME:CDT
DTSTART:20270314T020000
TZOFFSETFROM:-0600
TZOFFSETTO:-0500
RDATE:20280312T020000
RDATE:20290311T020000
END:DAYLIGHT
END:VTIMEZONE
BEGIN:VEVENT
UID:6f1d2d84-ea92-4cab-b59a-9a180f10357d
DTSTAMP:20260421T105752Z
DESCRIPTION:Join our Online Skin Picking Support every 1st and 3rd Tuesday 
 of the month. Our group is for adults (18+) and is led by #PickingMe CEO a
 nd Skin Picker Lauren McKeaney. Click the link below to sign up!
DTSTART;TZID=America/Chicago:20280201T180000
DTEND;TZID=America/Chicago:20280201T193000
LOCATION:Online
SUMMARY:Online Skin Picking Support Group
END:VEVENT
END:VCALENDAR
