BEGIN:VCALENDAR
VERSION:2.0
PRODID:-//pickingme.org//NONSGML kigkonsult.se iCalcreator 2.30.10//
CALSCALE:GREGORIAN
METHOD:PUBLISH
UID:e672713c-e624-4924-955d-77d32f7c1e10
X-WR-CALDESC:
X-WR-RELCALID:f5239faf827c614d8e8fe0e566aa6da9
X-WR-TIMEZONE:America/Chicago
BEGIN:VTIMEZONE
TZID:America/Chicago
BEGIN:STANDARD
TZNAME:CST
DTSTART:20221106T020000
TZOFFSETFROM:-0500
TZOFFSETTO:-0600
RDATE:20231105T020000
END:STANDARD
BEGIN:DAYLIGHT
TZNAME:CDT
DTSTART:20220313T020000
TZOFFSETFROM:-0600
TZOFFSETTO:-0500
RDATE:20230312T020000
RDATE:20240310T020000
END:DAYLIGHT
END:VTIMEZONE
BEGIN:VEVENT
UID:cacb70b4-f293-49d3-9934-793a24c45ed5
DTSTAMP:20260424T124525Z
DESCRIPTION:
DTSTART;TZID=America/Chicago:20230211T140000
DTEND;TZID=America/Chicago:20230211T153000
LOCATION:https://pickingme.org/vdayparty/vdayparty.html
SUMMARY:Hearts & Crafts Party
END:VEVENT
END:VCALENDAR
