BEGIN:VCALENDAR
VERSION:2.0
PRODID:-//pickingme.org//NONSGML kigkonsult.se iCalcreator 2.30.10//
CALSCALE:GREGORIAN
METHOD:PUBLISH
UID:a4921387-1da3-4063-87ba-4a616ea95c90
X-WR-CALDESC:Join our Online Skin Picking Support every 1st and 3rd Tuesday
  of the month during the pandemic. Our group is for adults (18+) and is le
 d by #PickingMe CEO and Skin Picker Lauren McKeaney. Click the link below 
 to sign up!
X-WR-RELCALID:8e36d1d184da9ad86d6652f1c7fa062e
X-WR-TIMEZONE:America/Chicago
BEGIN:VTIMEZONE
TZID:America/Chicago
BEGIN:STANDARD
TZNAME:CST
DTSTART:20231105T020000
TZOFFSETFROM:-0500
TZOFFSETTO:-0600
RDATE:20241103T020000
END:STANDARD
BEGIN:DAYLIGHT
TZNAME:CDT
DTSTART:20230312T020000
TZOFFSETFROM:-0600
TZOFFSETTO:-0500
RDATE:20240310T020000
RDATE:20250309T020000
END:DAYLIGHT
END:VTIMEZONE
BEGIN:VEVENT
UID:bfadd0ef-c556-40c7-b5dc-a85250be8a55
DTSTAMP:20260423T151909Z
DESCRIPTION:Join our Online Skin Picking Support every 1st and 3rd Tuesday 
 of the month during the pandemic. Our group is for adults (18+) and is led
  by #PickingMe CEO and Skin Picker Lauren McKeaney. Click the link below t
 o sign up!
DTSTART;TZID=America/Chicago:20240206T180000
DTEND;TZID=America/Chicago:20240206T193000
LOCATION:Online
SUMMARY:Online Skin Picking Support Group
END:VEVENT
END:VCALENDAR
