BEGIN:VCALENDAR
VERSION:2.0
PRODID:-//pickingme.org//NONSGML kigkonsult.se iCalcreator 2.30.10//
CALSCALE:GREGORIAN
METHOD:PUBLISH
UID:68c80b2c-c8e7-4324-96c6-cdf122eab6e4
X-WR-CALDESC:Join our Online Skin Picking Support every 1st and 3rd Tuesday
  of the month during the pandemic. Our group is for adults (18+) and is le
 d by #PickingMe CEO and Skin Picker Lauren McKeaney. Click the link below 
 to sign up!
X-WR-RELCALID:e00632ea2ad2d42a0d5fe93b7c24cf19
X-WR-TIMEZONE:America/Chicago
BEGIN:VTIMEZONE
TZID:America/Chicago
BEGIN:STANDARD
TZNAME:CST
DTSTART:20231105T020000
TZOFFSETFROM:-0500
TZOFFSETTO:-0600
RDATE:20241103T020000
END:STANDARD
BEGIN:DAYLIGHT
TZNAME:CDT
DTSTART:20230312T020000
TZOFFSETFROM:-0600
TZOFFSETTO:-0500
RDATE:20240310T020000
RDATE:20250309T020000
END:DAYLIGHT
END:VTIMEZONE
BEGIN:VEVENT
UID:801b917b-e9c3-4996-a442-87a879c29bf5
DTSTAMP:20260423T130815Z
DESCRIPTION:Join our Online Skin Picking Support every 1st and 3rd Tuesday 
 of the month during the pandemic. Our group is for adults (18+) and is led
  by #PickingMe CEO and Skin Picker Lauren McKeaney. Click the link below t
 o sign up!
DTSTART;TZID=America/Chicago:20240305T180000
DTEND;TZID=America/Chicago:20240305T193000
LOCATION:Online
SUMMARY:Online Skin Picking Support Group
END:VEVENT
END:VCALENDAR
