BEGIN:VCALENDAR
VERSION:2.0
PRODID:-//pickingme.org//NONSGML kigkonsult.se iCalcreator 2.30.10//
CALSCALE:GREGORIAN
METHOD:PUBLISH
UID:61335273-f8a7-47ef-aa1b-d9b73d56952f
X-WR-CALDESC:Join us for an night of fun and philanthropy in honor of the w
 ill it takes to live with Mental Illness\, May 10th\, from 6-9 PM\, at Pip
 pin’s Tavern in Chicago! This event will feature a silent auction\, delici
 ous food & drink\, giveaways and much more.
X-WR-RELCALID:dcad2b6b8faf9172bcb679f69f35c1f1
X-WR-TIMEZONE:America/Chicago
BEGIN:VTIMEZONE
TZID:America/Chicago
BEGIN:STANDARD
TZNAME:CST
DTSTART:20231105T020000
TZOFFSETFROM:-0500
TZOFFSETTO:-0600
RDATE:20241103T020000
RDATE:20251102T020000
END:STANDARD
BEGIN:DAYLIGHT
TZNAME:CDT
DTSTART:20240310T020000
TZOFFSETFROM:-0600
TZOFFSETTO:-0500
RDATE:20250309T020000
END:DAYLIGHT
END:VTIMEZONE
BEGIN:VEVENT
UID:3f738743-ee2c-4874-8fde-13fd104b3192
DTSTAMP:20260421T042920Z
DESCRIPTION:Join us for an night of fun and philanthropy in honor of the wi
 ll it takes to live with Mental Illness\, May 10th\, from 6-9 PM\, at Pipp
 in’s Tavern in Chicago! This event will feature a silent auction\, delicio
 us food & drink\, giveaways and much more.
DTSTART;TZID=America/Chicago:20240510T180000
DTEND;TZID=America/Chicago:20240510T210000
LOCATION:39 E Chicago Ave\, Chicago\, IL 60611 US
SUMMARY:#PickingMe's 8th Annual Mental (W)illness Fundraiser!
END:VEVENT
END:VCALENDAR
