BEGIN:VCALENDAR
VERSION:2.0
PRODID:-//pickingme.org//NONSGML kigkonsult.se iCalcreator 2.30.10//
CALSCALE:GREGORIAN
METHOD:PUBLISH
UID:26feed17-34ea-4d4f-be73-351f4969fcf7
X-WR-CALDESC:D.C. fam - Come hang out with the Skin Picking and BFRB commun
 ity on Sep 25th at 6:30 PM at Mr. Smith's of Georgetown!\n\nPick CEO Laure
 n McKeaney's brain with BFRB questions and advice\, swap strategies with f
 ellow community members who understand and be together in-person at this l
 ow key #PickingMe meet-up.\n\n✨ Tap below to RSVP ✨
X-WR-RELCALID:138268a6c175d820a0ceaee8ea1dbeb8
X-WR-TIMEZONE:America/Chicago
BEGIN:VTIMEZONE
TZID:America/Chicago
BEGIN:STANDARD
TZNAME:CST
DTSTART:20241103T020000
TZOFFSETFROM:-0500
TZOFFSETTO:-0600
RDATE:20251102T020000
RDATE:20261101T020000
END:STANDARD
BEGIN:DAYLIGHT
TZNAME:CDT
DTSTART:20250309T020000
TZOFFSETFROM:-0600
TZOFFSETTO:-0500
RDATE:20260308T020000
RDATE:20270314T020000
END:DAYLIGHT
END:VTIMEZONE
BEGIN:VEVENT
UID:87b78859-afcb-420a-a847-2535a8a8fc5e
DTSTAMP:20260419T114944Z
DESCRIPTION:D.C. fam - Come hang out with the Skin Picking and BFRB communi
 ty on Sep 25th at 6:30 PM at Mr. Smith's of Georgetown!\n\nPick CEO Lauren
  McKeaney's brain with BFRB questions and advice\, swap strategies with fe
 llow community members who understand and be together in-person at this lo
 w key #PickingMe meet-up.\n\n✨ Tap below to RSVP ✨
DTSTART;TZID=America/Chicago:20250925T050000
DTEND;TZID=America/Chicago:20250925T050001
LOCATION:3205 water st nw\, washington\, DC 20007 US
SUMMARY:DC #PickingMe Pop-Up!
END:VEVENT
END:VCALENDAR
