BEGIN:VCALENDAR
VERSION:2.0
PRODID:-//pickingme.org//NONSGML kigkonsult.se iCalcreator 2.30.10//
CALSCALE:GREGORIAN
METHOD:PUBLISH
UID:d88f5cc5-9274-41e3-8efd-5d1ec0a0b048
X-WR-CALDESC:Join our Online Skin Picking Support every 1st and 3rd Tuesday
  of the month. Our group is for adults (18+) and is led by #PickingMe CEO 
 and Skin Picker Lauren McKeaney. Click the link below to sign up!
X-WR-RELCALID:c7197e0118071efd1a851c2f52256629
X-WR-TIMEZONE:America/Chicago
BEGIN:VTIMEZONE
TZID:America/Chicago
BEGIN:STANDARD
TZNAME:CST
DTSTART:20281105T020000
TZOFFSETFROM:-0500
TZOFFSETTO:-0600
RDATE:20291104T020000
RDATE:20301103T020000
END:STANDARD
BEGIN:DAYLIGHT
TZNAME:CDT
DTSTART:20290311T020000
TZOFFSETFROM:-0600
TZOFFSETTO:-0500
RDATE:20300310T020000
END:DAYLIGHT
END:VTIMEZONE
BEGIN:VEVENT
UID:ac84cd82-05c0-495c-ac5c-f509ae676098
DTSTAMP:20260422T124330Z
DESCRIPTION:Join our Online Skin Picking Support every 1st and 3rd Tuesday 
 of the month. Our group is for adults (18+) and is led by #PickingMe CEO a
 nd Skin Picker Lauren McKeaney. Click the link below to sign up!
DTSTART;TZID=America/Chicago:20290904T180000
DTEND;TZID=America/Chicago:20290904T193000
LOCATION:Online
SUMMARY:Online Skin Picking Support Group
END:VEVENT
END:VCALENDAR
