BEGIN:VCALENDAR
VERSION:2.0
PRODID:-//pickingme.org//NONSGML kigkonsult.se iCalcreator 2.30.10//
CALSCALE:GREGORIAN
METHOD:PUBLISH
UID:4fd5af89-efe8-4dda-b670-a2a0ff623271
X-WR-CALDESC:Join our Online Skin Picking Support every 1st and 3rd Tuesday
  of the month. Our group is for adults (18+) and is led by #PickingMe CEO 
 and Skin Picker Lauren McKeaney. Click the link below to sign up!
X-WR-RELCALID:b22032338ee2142492d22250aa821b65
X-WR-TIMEZONE:America/Chicago
BEGIN:VTIMEZONE
TZID:America/Chicago
BEGIN:STANDARD
TZNAME:CST
DTSTART:20301103T020000
TZOFFSETFROM:-0500
TZOFFSETTO:-0600
RDATE:20311102T020000
END:STANDARD
BEGIN:DAYLIGHT
TZNAME:CDT
DTSTART:20300310T020000
TZOFFSETFROM:-0600
TZOFFSETTO:-0500
RDATE:20310309T020000
RDATE:20320314T020000
END:DAYLIGHT
END:VTIMEZONE
BEGIN:VEVENT
UID:8d8fa86b-f952-451d-9b59-a1084ddb6dc0
DTSTAMP:20260423T145810Z
DESCRIPTION:Join our Online Skin Picking Support every 1st and 3rd Tuesday 
 of the month. Our group is for adults (18+) and is led by #PickingMe CEO a
 nd Skin Picker Lauren McKeaney. Click the link below to sign up!
DTSTART;TZID=America/Chicago:20301105T180000
DTEND;TZID=America/Chicago:20301105T193000
LOCATION:Online
SUMMARY:Online Skin Picking Support Group
END:VEVENT
END:VCALENDAR
